BEGIN:VCALENDAR
VERSION:2.0
PRODID:-//CiviCRM//NONSGML CiviEvent iCal//EN
X-WR-TIMEZONE:Europe/London
METHOD:PUBLISH
BEGIN:VTIMEZONE
TZID:Europe/London
BEGIN:DAYLIGHT
TZOFFSETFROM:+0100
TZOFFSETTO:+0100
TZNAME:BST
DTSTART:20260517T180000
END:DAYLIGHT
END:VTIMEZONE
BEGIN:VEVENT
UID:CiviCRM_EventID_552_3acfe46c83edaf67cf57933fa00b4f91@www.ppu.org.uk
SUMMARY:'Counting All Those Who Refuse to Fight' - Online 
 Event
X-ALT-DESC;FMTTYPE=text/html:<!DOCTYPE HTML PUBLIC
  "-//W3C//DTD HTML 3.2//EN"><html><body><p>Do we c
 ount all who refuse to fight? At least 200\,000 Ru
 ssian men are refusing to fight in the Ukraine war
 . This is huge for making peace and obstructing wa
 r. In comparison the British army is just 108\,000
 . We should not be ramping up the British Military
 \, rather making it easier for those refusing to f
 ight to find asylum in the UK.</p>\n \n <p>Hear st
 ories of COs in the past and today as well as cour
 ageous stories of deserters and conscript evaders.
  Celebrate the courage of all and find out how we 
 can support.</p>\n \n <ul>\n 	<li><strong>When -</
 strong> Sunday 17 May\, 7:00pm (UK time)</li>\n 	<
 li><strong>Where -</strong> Online (Zoom)</li>\n 	
 <li><strong>To register please email -</strong> <a
  href="mailto:abolton2@live.com">abolton2@live.com
 </a></li>\n </ul>\n \n <p>All welcome.</p></body><
 /html>
DESCRIPTION:Do we count all who refuse to fight? At least 200\
 ,000 Russian men are refusing to fight in the Ukra
 ine war. This is huge for making peace and obstruc
 ting war. In comparison the British army is just 1
 08\,000. We should not be ramping up the British M
 ilitary\, rather making it easier for those refusi
 ng to fight to find asylum in the UK.\n \n \n \n H
 ear stories of COs in the past and today as well a
 s courageous stories of deserters and conscript ev
 aders. Celebrate the courage of all and find out h
 ow we can support.\n \n \n \n \n 	When - Sunday 17
  May\, 7:00pm (UK time)\n 	Where - Online (Zoom)\n
  	To register please email - abolton2@live.com (ma
 ilto:abolton2@live.com)\n \n \n All welcome.\n \n 
CATEGORIES:External Event
CALSCALE:GREGORIAN
DTSTAMP;TZID=Europe/London:20260517T190000
DTSTART;TZID=Europe/London:20260517T190000
DTEND;TZID=Europe/London:20260517T190000
URL:https://www.ppu.org.uk/civicrm/event/info?reset=1&id=552
END:VEVENT
END:VCALENDAR
